BEGIN:VCALENDAR
VERSION:2.0
PRODID:-//hacksw/handcal//NONSGML v1.0//EN
BEGIN:VEVENT
SUMMARY:L'AIGLE (Hanterie, Boulai, Butte aux Roches, St-Sulpice)
UID:fe633872-6f0e-4391-8a23-d36fb69b2013
DTSTART:20260227T123000Z
DTEND:20260227T160000Z
LOCATION:Localisation   
CATEGORIES:Sportif
STATUS:
URL;VALUE=URI:https://laiglerando.sportsregions.fr/evenements/2026/02/27/laigle-hanterie-boulai-butte-aux-roches-st-sulpice-2423165
END:VEVENT
END:VCALENDAR
