BEGIN:VCALENDAR
VERSION:2.0
PRODID:-//hacksw/handcal//NONSGML v1.0//EN
BEGIN:VEVENT
SUMMARY:L'AIGLE (St-Pair, Bois Normand, Chabottieres, Ruaux, Fontenil)
UID:8781d5dd-879b-4408-97b9-6e5bd22f9cda
DTSTART:20260306T123000Z
DTEND:20260306T160000Z
LOCATION:Localisation   
CATEGORIES:Sportif
STATUS:
URL;VALUE=URI:https://laiglerando.sportsregions.fr/evenements/2026/03/06/laigle-st-pair-bois-normand-chabottieres-ruaux-fontenil-2423167
END:VEVENT
END:VCALENDAR
