BEGIN:VCALENDAR
VERSION:2.0
PRODID:-//hacksw/handcal//NONSGML v1.0//EN
BEGIN:VEVENT
SUMMARY:PULLAY (27)
UID:d1d932c7-6089-41c1-bc38-1e02a1c572fe
DTSTART:20260320T123000Z
DTEND:20260320T163000Z
LOCATION:Localisation   
CATEGORIES:Sportif
STATUS:
DESCRIPTION:<p>- 12 km (possibilite de faire 15 km) : Jean-Michel</p>
URL;VALUE=URI:https://laiglerando.sportsregions.fr/evenements/2026/03/20/pullay-27-2429903
END:VEVENT
END:VCALENDAR
