BEGIN:VCALENDAR
VERSION:2.0
PRODID:-//hacksw/handcal//NONSGML v1.0//EN
BEGIN:VEVENT
SUMMARY:MORTAGNE (Rando organisee par Anne-Marie)
UID:8156b55b-437a-42db-b4c5-13718223d672
DTSTART:20260410T113000Z
DTEND:20260410T150000Z
LOCATION:Localisation   
CATEGORIES:Sportif
STATUS:
DESCRIPTION:<p>- 12 km<br>
 - 13h30 place de Verdun pour le
 covoiturage<br>
 - 14h Parking Super U a Mortagne</p>
URL;VALUE=URI:https://laiglerando.sportsregions.fr/evenements/2026/04/10/mortagne-rando-organisee-par-anne-marie-2431147
END:VEVENT
END:VCALENDAR
