BEGIN:VCALENDAR
VERSION:2.0
PRODID:-//hacksw/handcal//NONSGML v1.0//EN
BEGIN:VEVENT
SUMMARY:BRESOLETTES (Rando organisee par Philippe et Regine)
UID:5e79b3ff-1d5f-47ab-be92-4413739105b3
DTSTART:20260417T113000Z
DTEND:20260417T153000Z
LOCATION:Localisation   
CATEGORIES:Sportif
STATUS:
DESCRIPTION:<p>- 12 KM,<br>
 - Covoiturage place de Verdun a
 13h30,<br>
 - Depart rando parking de la mairie de Bresolettes a
 14h.</p>
URL;VALUE=URI:https://laiglerando.sportsregions.fr/evenements/2026/04/17/bresolettes-rando-organisee-par-philippe-et-regine-2435522
END:VEVENT
END:VCALENDAR
