BEGIN:VCALENDAR
VERSION:2.0
PRODID:-//hacksw/handcal//NONSGML v1.0//EN
BEGIN:VEVENT
SUMMARY:JEUDI 7 Mai : L'AIGLE - Rando de 8 km proposee par Leo (en remplacement du vendredi 8 mai)
UID:cfd4e353-3934-46aa-a1c6-d4eebd6f5f20
DTSTART:20260507T113000Z
DTEND:20260507T143000Z
LOCATION:Localisation   
CATEGORIES:Sportif
STATUS:
DESCRIPTION:<p>- Rendez-vous place de Verdun a 13h30.</p>
URL;VALUE=URI:https://laiglerando.sportsregions.fr/evenements/2026/05/07/jeudi-7-mai-laigle-rando-de-8-km-proposee-par-leo-en-remplacement-du-vendredi-8-mai-2441272
END:VEVENT
END:VCALENDAR
