BEGIN:VCALENDAR
VERSION:2.0
PRODID:-//hacksw/handcal//NONSGML v1.0//EN
BEGIN:VEVENT
SUMMARY:RAI : Rando de 12 km organisee par Marie
UID:4eb9573d-6400-42de-b09d-632d758f3f0c
DTSTART:20260508T113000Z
DTEND:20260508T150000Z
LOCATION:Localisation   
CATEGORIES:Sportif
STATUS:
DESCRIPTION:<p>- 12 km,<br>
 - Rendez-vous place de Verdun a 13h30
 pour le covoiturage ou a 13h45 sur le parking du parcours de sante
 situe derriere le centre commercial.</p>
URL;VALUE=URI:https://laiglerando.sportsregions.fr/evenements/2026/05/08/rai-rando-de-12-km-organisee-par-marie-2441334
END:VEVENT
END:VCALENDAR
