BEGIN:VCALENDAR
VERSION:2.0
PRODID:-//hacksw/handcal//NONSGML v1.0//EN
BEGIN:VEVENT
SUMMARY:MELICOURT (27) Rando organisee par Anne-Marie, Francoise et Arlette
UID:64ca6d71-2705-4c0b-8d81-6b778a23e97d
DTSTART:20260522T113000Z
DTEND:20260522T154500Z
LOCATION:Localisation   
CATEGORIES:Sportif
STATUS:
DESCRIPTION:<p>- 12,2 km - <strong><span style="color:#ff0000;">De
 bons deniveles positifs</span></strong>.<br>
 - Covoiturage place de
 Verdun a 13h30<br>
 - Depart rando Parking (derriere) l'eglise a
 14h.</p>
URL;VALUE=URI:https://laiglerando.sportsregions.fr/evenements/2026/05/22/melicourt-27-rando-organisee-par-anne-marie-francoise-et-arlette-2435513
END:VEVENT
END:VCALENDAR
