BEGIN:VCALENDAR
VERSION:2.0
PRODID:-//hacksw/handcal//NONSGML v1.0//EN
BEGIN:VEVENT
SUMMARY:Rando / Barbecue (Michel)
UID:0cf41f30-b758-4f31-afcc-a98208e0d371
DTSTART:20260626T063000Z
DTEND:20260626T150000Z
LOCATION:Localisation   
CATEGORIES:Festif
STATUS:
URL;VALUE=URI:https://laiglerando.sportsregions.fr/evenements/2026/06/26/rando-barbecue-michel-2423169
END:VEVENT
END:VCALENDAR
