BEGIN:VCALENDAR
VERSION:2.0
PRODID:-//hacksw/handcal//NONSGML v1.0//EN
BEGIN:VEVENT
SUMMARY:DEPARTEMENTALE 2026 a LA PERRIERE
UID:dbf1c1e4-078c-4251-8ca5-eeab1b102141
DTSTART:20260913T063000Z
DTEND:20260913T153000Z
LOCATION:Localisation   
CATEGORIES:Sportif
STATUS:
DESCRIPTION:<p>- Journee RANDO organisee par le club de
 Courgeout<br>
 - Accueil a la Salle des Fetes de La Perriere a partir
 de 8h30</p>
URL;VALUE=URI:https://laiglerando.sportsregions.fr/evenements/2026/09/13/departementale-2026-a-la-perriere-2431152
END:VEVENT
END:VCALENDAR
